BEGIN:VCALENDAR
VERSION:2.0
CALSCALE:GREGORIAN
PRODID:adamgibbons/ics
METHOD:PUBLISH
X-PUBLISHED-TTL:PT1H
BEGIN:VEVENT
UID:233@femcomboi.org
SUMMARY:[Cine] Molt lluny
DTSTAMP:20260421T084816Z
DTSTART:20260305T180000Z
DTEND:20260305T200000Z
DESCRIPTION:Els municipis de la Mancomunitat Alt Maestrat participen en la 
	Xarxa Rural\nd’exhibició de cinema espanyol\, subvencionada pel Ministeri 
	de Cultura per als\nmunicipis rurals de menys de 5.000 habitants. A Benass
	al se projectarà "Molt\nlluny"
URL:https://femcomboi.org/event/cine-molt-lluny
GEO:40.3793;-0.13866
LOCATION:Llar dels jubilats\, Benassal - Benassal\, l'Alt Maestrat\, Castel
	ló / Castellón\, Comunitat Valenciana\, 12160\, España
STATUS:CONFIRMED
CATEGORIES:Benassal,Cine
X-ALT-DESC;FMTTYPE=text/html:<p>Els municipis de la Mancomunitat Alt Maestr
	at participen en la Xarxa Rural d’exhibició de cinema espanyol, subvencion
	ada pel Ministeri de Cultura per als municipis rurals de menys de 5.000 ha
	bitants. A Benassal se projectarà "Molt lluny"</p>
BEGIN:VALARM
ACTION:DISPLAY
DESCRIPTION:[Cine] Molt lluny
TRIGGER:-PT1H
END:VALARM
END:VEVENT
END:VCALENDAR
