BEGIN:VCALENDAR
VERSION:2.0
CALSCALE:GREGORIAN
PRODID:adamgibbons/ics
METHOD:PUBLISH
X-PUBLISHED-TTL:PT1H
BEGIN:VEVENT
UID:234@femcomboi.org
SUMMARY:[Cine] Un bany propi
DTSTAMP:20260421T084851Z
DTSTART:20260320T180000Z
DTEND:20260320T200000Z
DESCRIPTION:Els municipis de la Mancomunitat Alt Maestrat participen en la 
	Xarxa Rural\nd’exhibició de cinema espanyol\, subvencionada pel Ministeri 
	de Cultura per als\nmunicipis rurals de menys de 5.000 habitants. A Culla 
	se projectarà "Un bany\npropi"
URL:https://femcomboi.org/event/cine-un-bany-propi
GEO:40.3366;-0.165619
LOCATION:Casa de la Cultura - Culla - Carrer dels Saulons\, Culla
STATUS:CONFIRMED
CATEGORIES:Cine,Culla
X-ALT-DESC;FMTTYPE=text/html:<p>Els municipis de la Mancomunitat Alt Maestr
	at participen en la Xarxa Rural d’exhibició de cinema espanyol, subvencion
	ada pel Ministeri de Cultura per als municipis rurals de menys de 5.000 ha
	bitants. A Culla se projectarà "Un bany propi"</p>
BEGIN:VALARM
ACTION:DISPLAY
DESCRIPTION:[Cine] Un bany propi
TRIGGER:-PT1H
END:VALARM
END:VEVENT
END:VCALENDAR
