BEGIN:VCALENDAR
VERSION:2.0
CALSCALE:GREGORIAN
PRODID:adamgibbons/ics
METHOD:PUBLISH
X-PUBLISHED-TTL:PT1H
BEGIN:VEVENT
UID:237@femcomboi.org
SUMMARY:Descobrint la riquesa del parc
DTSTAMP:20260421T084925Z
DTSTART:20260405T090000Z
DTEND:20260405T110000Z
URL:https://femcomboi.org/event/descobrint-la-riquesa-del-parc
GEO:40.2513;-0.355793
LOCATION:Centre d'Interpretació Parc Natural del Penyagolosa - Partida Peña
	golosa\, 12135 Vistabella del Maestrazgo\, Castellón
STATUS:CONFIRMED
CATEGORIES:Ruta guiada,Vistabella del Maestrat
BEGIN:VALARM
ACTION:DISPLAY
DESCRIPTION:Descobrint la riquesa del parc
TRIGGER:-PT1H
END:VALARM
END:VEVENT
END:VCALENDAR
