BEGIN:VCALENDAR
VERSION:2.0
CALSCALE:GREGORIAN
PRODID:adamgibbons/ics
METHOD:PUBLISH
X-PUBLISHED-TTL:PT1H
BEGIN:VEVENT
UID:241@femcomboi.org
SUMMARY:Juguem a la Biblioteca: juguem amb les paraules
DTSTAMP:20260421T085539Z
DTSTART:20260407T153000Z
DTEND:20260407T170000Z
URL:https://femcomboi.org/event/juguem-a-la-biblioteca-juguem-amb-les-parau
	les
GEO:40.2166;-0.170492
LOCATION:Biblioteca Municipal - Atzeneta del Maestrat - Plaça Major\, 4\, A
	tzeneta del Maestrat
STATUS:CONFIRMED
CATEGORIES:Atzeneta del Maestrat,Jocs de taula,taller
BEGIN:VALARM
ACTION:DISPLAY
DESCRIPTION:Juguem a la Biblioteca: juguem amb les paraules
TRIGGER:-PT1H
END:VALARM
END:VEVENT
END:VCALENDAR
