BEGIN:VCALENDAR
VERSION:2.0
CALSCALE:GREGORIAN
PRODID:adamgibbons/ics
METHOD:PUBLISH
X-PUBLISHED-TTL:PT1H
BEGIN:VEVENT
UID:242@femcomboi.org
SUMMARY:Música amb Grup Five
DTSTAMP:20260421T084903Z
DTSTART:20260405T170000Z
DTEND:20260405T200000Z
DESCRIPTION:Vesprada amb música a càrrec del Grup Five
URL:https://femcomboi.org/event/musica-amb-grup-five
GEO:40.3572;-0.0671625
LOCATION:Pavelló Municipal - Vilar de Canes - Pavelló Municipal - Vilar de 
	Canes
STATUS:CONFIRMED
CATEGORIES:Música,Vilar de Canes
X-ALT-DESC;FMTTYPE=text/html:<p>Vesprada amb música a càrrec del Grup Five<
	/p>
BEGIN:VALARM
ACTION:DISPLAY
DESCRIPTION:Música amb Grup Five
TRIGGER:-PT1H
END:VALARM
END:VEVENT
END:VCALENDAR
