BEGIN:VCALENDAR
VERSION:2.0
CALSCALE:GREGORIAN
PRODID:adamgibbons/ics
METHOD:PUBLISH
X-PUBLISHED-TTL:PT1H
BEGIN:VEVENT
UID:238@femcomboi.org
SUMMARY:Pedra seca\, tossal del mas de l'hostal
DTSTAMP:20260421T085052Z
DTSTART:20260328T093000Z
DTEND:20260328T113000Z
URL:https://femcomboi.org/event/pedra-seca-tossal-del-mas-de-lhostal
GEO:40.2937;-0.291901
LOCATION:Plaça del Dau\, Vistabella - Plaça del Dau\, Vistabella
STATUS:CONFIRMED
CATEGORIES:Ruta guiada,Vistabella del Maestrat
BEGIN:VALARM
ACTION:DISPLAY
DESCRIPTION:Pedra seca, tossal del mas de l'hostal
TRIGGER:-PT1H
END:VALARM
END:VEVENT
END:VCALENDAR
